BEGIN:VCALENDAR
VERSION:2.0
PRODID:-//SVP Graubünden //NONSGML Events //EN
CALSCALE:GREGORIAN
X-WR-CALNAME:SVP Graubünden
BEGIN:VEVENT
CREATED:20211231T073444Z
UID:5580
DTEND:20221127T000000
DTSTART:T000000
DTSTAMP:20231024T062507Z
LOCATION:
DESCRIPTION:
SUMMARY:Abstimmungssonntag
ORGANIZER:
URL;VALUE=URI:https://www.svp-gr.ch/aktuell/termine/abstimmungssonntag/
TRANSP:OPAQUE
END:VEVENT
END:VCALENDAR
