BEGIN:VCALENDAR
VERSION:2.0
PRODID:-//SVP Graubünden //NONSGML Events //EN
CALSCALE:GREGORIAN
X-WR-CALNAME:SVP Graubünden
BEGIN:VEVENT
CREATED:20211231T073541Z
UID:5584
DTEND:20220515T000000
DTSTART:T000000
DTSTAMP:20231024T062505Z
LOCATION:
DESCRIPTION:
SUMMARY:Wahlen Graubünden
ORGANIZER:
URL;VALUE=URI:https://www.svp-gr.ch/aktuell/termine/abstimmungssonntag-2-2/
TRANSP:OPAQUE
END:VEVENT
END:VCALENDAR
