BEGIN:VCALENDAR
VERSION:2.0
PRODID:-//SVP Graubünden //NONSGML Events //EN
CALSCALE:GREGORIAN
X-WR-CALNAME:SVP Graubünden
BEGIN:VEVENT
CREATED:20230126T063603Z
UID:7018
DTEND:20230323T190000
DTSTART:20230323T183000
DTSTAMP:20231024T043527Z
LOCATION:Kino Apollo\, chur
DESCRIPTION:Einladung zur Nominationsversammlung
SUMMARY:Nominationsversammlung SVP Graubünden
ORGANIZER:SVP Graubünden
URL;VALUE=URI:https://www.svp-gr.ch/aktuell/termine/nominationsversammlung-svp-graubuenden/
TRANSP:OPAQUE
END:VEVENT
END:VCALENDAR
