BEGIN:VCALENDAR
VERSION:2.0
PRODID:-//SVP Graubünden //NONSGML Events //EN
CALSCALE:GREGORIAN
X-WR-CALNAME:SVP Graubünden
BEGIN:VEVENT
CREATED:20230126T063650Z
UID:7020
DTEND:20230603T100000
DTSTART:20230603T090000
DTSTAMP:20231024T043537Z
LOCATION:Domat Ems
DESCRIPTION:
SUMMARY:Führungsseminar SVP Graubünden
ORGANIZER:
URL;VALUE=URI:https://www.svp-gr.ch/aktuell/termine/fuehrungsseminar-svp-graubuenden/
TRANSP:OPAQUE
END:VEVENT
END:VCALENDAR
