BEGIN:VCALENDAR
VERSION:2.0
PRODID:-//SVP Graubünden //NONSGML Events //EN
CALSCALE:GREGORIAN
X-WR-CALNAME:SVP Graubünden
BEGIN:VEVENT
CREATED:20230126T063732Z
UID:7022
DTEND:20230405T100000
DTSTART:20230405T090000
DTSTAMP:20231024T043435Z
LOCATION:Unterengadin
DESCRIPTION:
SUMMARY:Fraktionssitzung der SVP Graubünden
ORGANIZER:SVP Fraktion
URL;VALUE=URI:https://www.svp-gr.ch/aktuell/termine/fraktionssitzung-der-svp-graubuenden-2/
TRANSP:OPAQUE
END:VEVENT
END:VCALENDAR
