BEGIN:VCALENDAR
VERSION:2.0
PRODID:-//SVP Graubünden //NONSGML Events //EN
CALSCALE:GREGORIAN
X-WR-CALNAME:SVP Graubünden
BEGIN:VEVENT
CREATED:20230207T105805Z
UID:7029
DTEND:20230427T190000
DTSTART:20230427T183000
DTSTAMP:20231024T043422Z
LOCATION:Puschlav
DESCRIPTION:2023-04-27-Einladung-DV (1)
SUMMARY:DV der SVP Graubünden
ORGANIZER:
URL;VALUE=URI:https://www.svp-gr.ch/aktuell/termine/dv-der-svp-graubuenden/
TRANSP:OPAQUE
END:VEVENT
END:VCALENDAR
