BEGIN:VCALENDAR
VERSION:2.0
PRODID:-//SVP Graubünden //NONSGML Events //EN
CALSCALE:GREGORIAN
X-WR-CALNAME:SVP Graubünden
BEGIN:VEVENT
CREATED:20230207T105904Z
UID:7031
DTEND:20230531T100000
DTSTART:20230531T090000
DTSTAMP:20231024T043555Z
LOCATION:Bündner Herrschaft
DESCRIPTION:
SUMMARY:Fraktionssitzung der SVP Graubünden
ORGANIZER:
URL;VALUE=URI:https://www.svp-gr.ch/aktuell/termine/fraktionssitzung-der-svp-graubuenden-3/
TRANSP:OPAQUE
END:VEVENT
END:VCALENDAR
