BEGIN:VCALENDAR
VERSION:2.0
PRODID:-//SVP Graubünden //NONSGML Events //EN
CALSCALE:GREGORIAN
X-WR-CALNAME:SVP Graubünden
BEGIN:VEVENT
CREATED:20230207T105958Z
UID:7033
DTEND:20230815T200000
DTSTART:20230815T190000
DTSTAMP:20231024T043437Z
LOCATION:Arosa
DESCRIPTION:
SUMMARY:Parteivorstand SVP Graubünden
ORGANIZER:
URL;VALUE=URI:https://www.svp-gr.ch/aktuell/termine/parteivorstand-svp-graubuenden-2/
TRANSP:OPAQUE
END:VEVENT
END:VCALENDAR
