BEGIN:VCALENDAR
VERSION:2.0
PRODID:-//SVP Graubünden //NONSGML Events //EN
CALSCALE:GREGORIAN
X-WR-CALNAME:SVP Graubünden
BEGIN:VEVENT
CREATED:20230602T043722Z
UID:7241
DTEND:20230628T200000
DTSTART:20230628T190000
DTSTAMP:20231024T043426Z
LOCATION:Domat/Ems
DESCRIPTION:Referat Gut SVP Flyer Der Anlass ist öffentlich und alle sind herzlic
SUMMARY:Vortrag &#8211\; &#8220\;Die vierte Macht &#8211\; Medien auf Abwegen&#8221\; Domat/Ems
ORGANIZER:SVP Domat/Ems
URL;VALUE=URI:https://www.svp-gr.ch/aktuell/termine/vortrag-die-vierte-macht-medien-auf-abwegen-domat-ems/
TRANSP:OPAQUE
END:VEVENT
END:VCALENDAR
