BEGIN:VCALENDAR
VERSION:2.0
PRODID:-//SVP Graubünden //NONSGML Events //EN
CALSCALE:GREGORIAN
X-WR-CALNAME:SVP Graubünden
BEGIN:VEVENT
CREATED:20230615T133420Z
UID:7264
DTEND:20230826T150000
DTSTART:20230826T100000
DTSTAMP:20231024T043411Z
LOCATION:Swiss Life Arena\, Zürich
DESCRIPTION:Jetzt anmelden: www.svp.ch/wahlauftakt In der neusten und modernsten E
SUMMARY:Wahlauftakt SVP Schweiz
ORGANIZER:SVP Schweiz
URL;VALUE=URI:https://www.svp-gr.ch/aktuell/termine/wahlauftakt-svp-schweiz/
TRANSP:OPAQUE
END:VEVENT
END:VCALENDAR
