BEGIN:VCALENDAR
VERSION:2.0
PRODID:-//SVP Graubünden //NONSGML Events //EN
CALSCALE:GREGORIAN
X-WR-CALNAME:SVP Graubünden
BEGIN:VEVENT
CREATED:20230630T173007Z
UID:7305
DTEND:20230707T230000
DTSTART:20230707T180000
DTSTAMP:20231024T043533Z
LOCATION:Davos Dorf
DESCRIPTION:Komm vorbei und lerne, nebst der bisherigen Nationalrätin Magdalena M
SUMMARY:D Schwiiz isch üs nit Wurscht!
ORGANIZER:
URL;VALUE=URI:https://www.svp-gr.ch/aktuell/termine/d-schwiiz-isch-ues-nit-wurscht/
TRANSP:OPAQUE
END:VEVENT
END:VCALENDAR
