BEGIN:VCALENDAR
VERSION:2.0
PRODID:-//SVP Graubünden //NONSGML Events //EN
CALSCALE:GREGORIAN
X-WR-CALNAME:SVP Graubünden
BEGIN:VEVENT
CREATED:20230705T075627Z
UID:7308
DTEND:20230723T160000
DTSTART:20230723T090000
DTSTAMP:20231024T043450Z
LOCATION:Poschiavo
DESCRIPTION:Wie jedes Jahr organisiert die UDC Val Poschiavo am Sonntag, den 23.07
SUMMARY:Einladung Sommerfest in Poschiavo
ORGANIZER:UDC Val Poschiavo
URL;VALUE=URI:https://www.svp-gr.ch/aktuell/termine/einladung-sommerfest-in-poschiavo/
TRANSP:OPAQUE
END:VEVENT
END:VCALENDAR
