BEGIN:VCALENDAR
VERSION:2.0
PRODID:-//SVP Graubünden //NONSGML Events //EN
CALSCALE:GREGORIAN
X-WR-CALNAME:SVP Graubünden
BEGIN:VEVENT
CREATED:20230708T151541Z
UID:7317
DTEND:20230731T190000
DTSTART:20230731T000000
DTSTAMP:20231024T043543Z
LOCATION:Matten bei Interlaken
DESCRIPTION:Erleben Sie hautnah ein Stück Schweizer Geschichte in Matten bei Inte
SUMMARY:Einladung zur Bundesfeier &#8220\;Mythos macht Mut&#8221\;
ORGANIZER:Pro Schweiz
URL;VALUE=URI:https://www.svp-gr.ch/aktuell/termine/einladung-zur-bundesfeier-mythos-macht-mut/
TRANSP:OPAQUE
END:VEVENT
END:VCALENDAR
