BEGIN:VCALENDAR
VERSION:2.0
PRODID:-//SVP Graubünden //NONSGML Events //EN
CALSCALE:GREGORIAN
X-WR-CALNAME:SVP Graubünden
BEGIN:VEVENT
CREATED:20230718T184550Z
UID:7329
DTEND:20230722T110000
DTSTART:20230722T100000
DTSTAMP:20231024T043458Z
LOCATION:Scuol
DESCRIPTION:Der Sommer-Treffpunkt für Gäste und Einheimische Bunte Marktstimmung
SUMMARY:Festa sül Stradun in Scuol
ORGANIZER:
URL;VALUE=URI:https://www.svp-gr.ch/aktuell/termine/festa-suel-stradun-in-scuol/
TRANSP:OPAQUE
END:VEVENT
END:VCALENDAR
