BEGIN:VCALENDAR
VERSION:2.0
PRODID:-//SVP Graubünden //NONSGML Events //EN
CALSCALE:GREGORIAN
X-WR-CALNAME:SVP Graubünden
BEGIN:VEVENT
CREATED:20230727T155252Z
UID:7384
DTEND:20230801T160000
DTSTART:20230801T100000
DTSTAMP:20231024T043610Z
LOCATION:San Vitore
DESCRIPTION:Festansprache von Nationalrätin Magdalena Martullo-Blocher auf dem Hu
SUMMARY:Festa del 1° agosto a San Vittore con Magdalena Martullo
ORGANIZER:
URL;VALUE=URI:https://www.svp-gr.ch/aktuell/termine/inserat-san-vittore/
TRANSP:OPAQUE
END:VEVENT
END:VCALENDAR
