BEGIN:VCALENDAR
VERSION:2.0
PRODID:-//SVP Graubünden //NONSGML Events //EN
CALSCALE:GREGORIAN
X-WR-CALNAME:SVP Graubünden
BEGIN:VEVENT
CREATED:20230811T075208Z
UID:7402
DTEND:20230815T210000
DTSTART:20230815T190000
DTSTAMP:20231024T043530Z
LOCATION:Bahnhofsplatz Chur
DESCRIPTION:Lerne unsere Nationalratskandidaten persönlich, am Stand auf dem Bahn
SUMMARY:D Schwiiz isch üs nit Wurscht in Chur
ORGANIZER:SVP Region Chur
URL;VALUE=URI:https://www.svp-gr.ch/aktuell/termine/d-schwiiz-isch-ues-nit-wurscht-in-chur/
TRANSP:OPAQUE
END:VEVENT
END:VCALENDAR
