BEGIN:VCALENDAR
VERSION:2.0
PRODID:-//SVP Graubünden //NONSGML Events //EN
CALSCALE:GREGORIAN
X-WR-CALNAME:SVP Graubünden
BEGIN:VEVENT
CREATED:20230811T141825Z
UID:7407
DTEND:20230819T120000
DTSTART:20230819T110000
DTSTAMP:20231024T043432Z
LOCATION:Casa Torre\, Poschiavo
DESCRIPTION:Conferenza pubblica con Christoph Blocher ex consigliere federale e Ga
SUMMARY:Conferenza pubblica con Ch. Blocher e G. Menghini\, Poschiavo
ORGANIZER:UDC Val Poschiavo
URL;VALUE=URI:https://www.svp-gr.ch/aktuell/termine/conferenza-pubblica-con-ch-blocher-e-g-menghini-poschiavo/
TRANSP:OPAQUE
END:VEVENT
END:VCALENDAR
