BEGIN:VCALENDAR
VERSION:2.0
PRODID:-//SVP Graubünden //NONSGML Events //EN
CALSCALE:GREGORIAN
X-WR-CALNAME:SVP Graubünden
BEGIN:VEVENT
CREATED:20230814T041948Z
UID:7410
DTEND:20230819T110000
DTSTART:20230819T103000
DTSTAMP:20231024T043442Z
LOCATION:La Conditoria\, Via Alpsu 72\, 7188 Sedrun
DESCRIPTION:Die SVP Surselva lädt am Samstag, 19.08.2023 alle nach Sedrun ein. Mi
SUMMARY:SVP bi da Lüt in der Surselva
ORGANIZER:SVP Surselva
URL;VALUE=URI:https://www.svp-gr.ch/aktuell/termine/svp-bi-da-lueuet-in-der-surselva/
TRANSP:OPAQUE
END:VEVENT
END:VCALENDAR
