BEGIN:VCALENDAR
VERSION:2.0
PRODID:-//SVP Graubünden //NONSGML Events //EN
CALSCALE:GREGORIAN
X-WR-CALNAME:SVP Graubünden
BEGIN:VEVENT
CREATED:20230828T075354Z
UID:7425
DTEND:20230906T133000
DTSTART:20230906T103000
DTSTAMP:20231024T043415Z
LOCATION:Restaurant City West\, Chur
DESCRIPTION:Insider Meeting mit Dr. Markus Somm am Mittwoch, 06. September 2023 ab
SUMMARY:Capricorn-Anlass mit Dr. Markus Somm
ORGANIZER:Capricorn
URL;VALUE=URI:https://www.svp-gr.ch/aktuell/termine/capricorn-anlass-mit-dr-markus-somm/
TRANSP:OPAQUE
END:VEVENT
END:VCALENDAR
