BEGIN:VCALENDAR
VERSION:2.0
PRODID:-//SVP Graubünden //NONSGML Events //EN
CALSCALE:GREGORIAN
X-WR-CALNAME:SVP Graubünden
BEGIN:VEVENT
CREATED:20230829T061752Z
UID:7430
DTEND:20230916T150000
DTSTART:20230916T100000
DTSTAMP:20231024T043512Z
LOCATION:Parkplatz Raiffeisenbank Schiers
DESCRIPTION:Lerne unsere Nationalratskandidaten persönlich, am Stand in Schiers, 
SUMMARY:D Schwiiz isch üs nit Wurscht!
ORGANIZER:
URL;VALUE=URI:https://www.svp-gr.ch/aktuell/termine/d-schwiiz-isch-ues-nit-wurscht-3/
TRANSP:OPAQUE
END:VEVENT
END:VCALENDAR
