BEGIN:VCALENDAR
VERSION:2.0
PRODID:-//SVP Graubünden //NONSGML Events //EN
CALSCALE:GREGORIAN
X-WR-CALNAME:SVP Graubünden
BEGIN:VEVENT
CREATED:20230829T062138Z
UID:7432
DTEND:20230920T170000
DTSTART:20230920T100000
DTSTAMP:20231024T043500Z
LOCATION:Ilanz
DESCRIPTION:Lerne unsere Nationalratskandidaten persönlich, am Stand in Ilanz, ke
SUMMARY:D Schwiiz isch üs nit Wurscht!
ORGANIZER:
URL;VALUE=URI:https://www.svp-gr.ch/aktuell/termine/d-schwiiz-isch-ues-nit-wurscht-4/
TRANSP:OPAQUE
END:VEVENT
END:VCALENDAR
