BEGIN:VCALENDAR
VERSION:2.0
PRODID:-//SVP Graubünden //NONSGML Events //EN
CALSCALE:GREGORIAN
X-WR-CALNAME:SVP Graubünden
BEGIN:VEVENT
CREATED:20230829T062538Z
UID:7434
DTEND:20231018T170000
DTSTART:20231018T100000
DTSTAMP:20231024T043454Z
LOCATION:Ilanz
DESCRIPTION:Komm an unserem Stand am Warenmarkt in Ilanz vorbei. Wir freuen uns, m
SUMMARY:D Schwiiz isch üs nit Wurscht!
ORGANIZER:
URL;VALUE=URI:https://www.svp-gr.ch/aktuell/termine/d-schwiiz-isch-ues-nit-wurscht-5/
TRANSP:OPAQUE
END:VEVENT
END:VCALENDAR
