BEGIN:VCALENDAR
VERSION:2.0
PRODID:-//SVP Graubünden //NONSGML Events //EN
CALSCALE:GREGORIAN
X-WR-CALNAME:SVP Graubünden
BEGIN:VEVENT
CREATED:20230829T133603Z
UID:7440
DTEND:20231014T140000
DTSTART:20231014T110000
DTSTAMP:20231024T043515Z
LOCATION:Piazèta\, Roveredo
DESCRIPTION:Lerne unsere Nationalratskandidaten persönlich, am Stand auf der Piaz
SUMMARY:D Schwiiz isch üs nit Wurscht!
ORGANIZER:
URL;VALUE=URI:https://www.svp-gr.ch/aktuell/termine/d-schwiiz-isch-ues-nit-wurscht-8/
TRANSP:OPAQUE
END:VEVENT
END:VCALENDAR
