BEGIN:VCALENDAR
VERSION:2.0
PRODID:-//SVP Graubünden //NONSGML Events //EN
CALSCALE:GREGORIAN
X-WR-CALNAME:SVP Graubünden
BEGIN:VEVENT
CREATED:20230830T074949Z
UID:7448
DTEND:20231004T140000
DTSTART:20231004T120000
DTSTAMP:20231024T043602Z
LOCATION:
DESCRIPTION:Komm vorbei auf eine Wurst mit Magdalena Martullo und den Gipfelstürm
SUMMARY:Auf eine Wurst mit Magdalena Martullo und den Gipfelstürmern
ORGANIZER:
URL;VALUE=URI:https://www.svp-gr.ch/aktuell/termine/auf-eine-wurst-mit-magdalena-martullo-und-den-gipfelstuermern/
TRANSP:OPAQUE
END:VEVENT
END:VCALENDAR
