BEGIN:VCALENDAR
VERSION:2.0
PRODID:-//SVP Graubünden //NONSGML Events //EN
CALSCALE:GREGORIAN
X-WR-CALNAME:SVP Graubünden
BEGIN:VEVENT
CREATED:20230912T085614Z
UID:7510
DTEND:20230916T140000
DTSTART:20230916T090000
DTSTAMP:20231024T043555Z
LOCATION:Landquart\, beim Bahnhof
DESCRIPTION:Magdalena Martullo und weitere Nationalratskandidaten freuen sich, dic
SUMMARY:D Schwiiz isch üs nit Wurscht!
ORGANIZER:
URL;VALUE=URI:https://www.svp-gr.ch/aktuell/termine/d-schwiiz-isch-ues-nit-wurscht-8-2/
TRANSP:OPAQUE
END:VEVENT
END:VCALENDAR
