BEGIN:VCALENDAR
VERSION:2.0
PRODID:-//SVP Graubünden //NONSGML Events //EN
CALSCALE:GREGORIAN
X-WR-CALNAME:SVP Graubünden
BEGIN:VEVENT
CREATED:20230912T171307Z
UID:7520
DTEND:20230922T190000
DTSTART:20230922T180000
DTSTAMP:20231024T043550Z
LOCATION:Benis Backroad Beiz\, Sils i. D.
DESCRIPTION:Die Veranstaltung findet unter gedecktem Festplatz statt! Gute Stimmun
SUMMARY:Politische Standortbestimmung mit M. Martullo-Blocher
ORGANIZER:
URL;VALUE=URI:https://www.svp-gr.ch/aktuell/termine/politische-standortbestimmung-mit-m-martullo-blocher/
TRANSP:OPAQUE
END:VEVENT
END:VCALENDAR
