BEGIN:VCALENDAR
VERSION:2.0
PRODID:-//SVP Graubünden //NONSGML Events //EN
CALSCALE:GREGORIAN
X-WR-CALNAME:SVP Graubünden
BEGIN:VEVENT
CREATED:20231004T122908Z
UID:7592
DTEND:20231022T180000
DTSTART:20231022T140000
DTSTAMP:20231024T043521Z
LOCATION:B12\, 7000 Chur
DESCRIPTION:Komm vorbei, schaue gespannt zu und nutze die Zeit für Gespräche zus
SUMMARY:Wahlhock Nationalratwahlen Sonntag 22.10.2023
ORGANIZER:SVP GR
URL;VALUE=URI:https://www.svp-gr.ch/aktuell/termine/wahlhock-nationalratwahlen-sonntag-22-10-2023/
TRANSP:OPAQUE
END:VEVENT
END:VCALENDAR
