BEGIN:VCALENDAR
VERSION:2.0
PRODID:-//SVP Graubünden //NONSGML Events //EN
CALSCALE:GREGORIAN
X-WR-CALNAME:SVP Graubünden
BEGIN:VEVENT
CREATED:20231009T042549Z
UID:7626
DTEND:20240206T000000
DTSTART:20240206T000000
DTSTAMP:20231024T035709Z
LOCATION:Maienfeld
DESCRIPTION:Die nächste Delegiertenversammlung der SVP Graubünden findet am 06.0
SUMMARY:Delegiertenversammlung SVP Graubünden
ORGANIZER:SVP GR
URL;VALUE=URI:https://www.svp-gr.ch/aktuell/termine/delegiertenversammlung-svp-gr/
TRANSP:OPAQUE
END:VEVENT
END:VCALENDAR
