BEGIN:VCALENDAR
VERSION:2.0
PRODID:-//SVP Graubünden //NONSGML Events //EN
CALSCALE:GREGORIAN
X-WR-CALNAME:SVP Graubünden
BEGIN:VEVENT
CREATED:20231016T055948Z
UID:7649
DTEND:20240214T000000
DTSTART:20240212T000000
DTSTAMP:20231024T035705Z
LOCATION:Chur
DESCRIPTION:
SUMMARY:Session Grossrat
ORGANIZER:
URL;VALUE=URI:https://www.svp-gr.ch/aktuell/termine/session-grossrat/
TRANSP:OPAQUE
END:VEVENT
END:VCALENDAR
