BEGIN:VCALENDAR
VERSION:2.0
PRODID:-//SVP Graubünden //NONSGML Events //EN
CALSCALE:GREGORIAN
X-WR-CALNAME:SVP Graubünden
BEGIN:VEVENT
CREATED:20231016T060113Z
UID:7651
DTEND:20240223T190000
DTSTART:20240223T173000
DTSTAMP:20231024T035728Z
LOCATION:
DESCRIPTION:
SUMMARY:Sitzung Parteivorstand
ORGANIZER:
URL;VALUE=URI:https://www.svp-gr.ch/aktuell/termine/sitzung-parteivorstand/
TRANSP:OPAQUE
END:VEVENT
END:VCALENDAR
