BEGIN:VCALENDAR
VERSION:2.0
PRODID:-//SVP Graubünden //NONSGML Events //EN
CALSCALE:GREGORIAN
X-WR-CALNAME:SVP Graubünden
BEGIN:VEVENT
CREATED:20231016T060203Z
UID:7653
DTEND:20240303T000000
DTSTART:20240303T000000
DTSTAMP:20231024T035723Z
LOCATION:
DESCRIPTION:
SUMMARY:Abstimmungssonntag
ORGANIZER:
URL;VALUE=URI:https://www.svp-gr.ch/aktuell/termine/abstimmungssonntag-3/
TRANSP:OPAQUE
END:VEVENT
END:VCALENDAR
