BEGIN:VCALENDAR
VERSION:2.0
PRODID:-//SVP Graubünden //NONSGML Events //EN
CALSCALE:GREGORIAN
X-WR-CALNAME:SVP Graubünden
BEGIN:VEVENT
CREATED:20231016T060830Z
UID:7660
DTEND:20240609T000000
DTSTART:20240609T000000
DTSTAMP:20231024T035707Z
LOCATION:
DESCRIPTION:
SUMMARY:Abstimmungssonntag
ORGANIZER:
URL;VALUE=URI:https://www.svp-gr.ch/aktuell/termine/abstimmungssonntag-3-2/
TRANSP:OPAQUE
END:VEVENT
END:VCALENDAR
