BEGIN:VCALENDAR
VERSION:2.0
PRODID:-//SVP Graubünden //NONSGML Events //EN
CALSCALE:GREGORIAN
X-WR-CALNAME:SVP Graubünden
BEGIN:VEVENT
CREATED:20231016T061137Z
UID:7662
DTEND:20240612T000000
DTSTART:20240610T000000
DTSTAMP:20231024T035708Z
LOCATION:Chur
DESCRIPTION:
SUMMARY:Session Grossrat
ORGANIZER:
URL;VALUE=URI:https://www.svp-gr.ch/aktuell/termine/session-grossrat-2-2/
TRANSP:OPAQUE
END:VEVENT
END:VCALENDAR
