BEGIN:VCALENDAR
VERSION:2.0
PRODID:-//SVP Graubünden //NONSGML Events //EN
CALSCALE:GREGORIAN
X-WR-CALNAME:SVP Graubünden
BEGIN:VEVENT
CREATED:20231017T054858Z
UID:7664
DTEND:20240620T190000
DTSTART:20240620T173000
DTSTAMP:20231024T035733Z
LOCATION:
DESCRIPTION:
SUMMARY:Sitzung Parteivorstand
ORGANIZER:
URL;VALUE=URI:https://www.svp-gr.ch/aktuell/termine/sitzung-parteivorstand-2/
TRANSP:OPAQUE
END:VEVENT
END:VCALENDAR
