BEGIN:VCALENDAR
VERSION:2.0
PRODID:-//SVP Graubünden //NONSGML Events //EN
CALSCALE:GREGORIAN
X-WR-CALNAME:SVP Graubünden
BEGIN:VEVENT
CREATED:20240719T152847Z
UID:8187
DTEND:20240801T220000
DTSTART:20240801T160000
DTSTAMP:20260422T153822Z
LOCATION:Schulhausplatz Grava
DESCRIPTION:Flyer Bundesfeier Savognin
SUMMARY:1. August-Feier mit Magdalena Martullo
ORGANIZER:
URL;VALUE=URI:https://www.svp-gr.ch/aktuell/termine/1-august-feier-mit-magdalena-martullo/
TRANSP:OPAQUE
END:VEVENT
END:VCALENDAR
