BEGIN:VCALENDAR
VERSION:2.0
PRODID:-//SVP Graubünden //NONSGML Events //EN
CALSCALE:GREGORIAN
X-WR-CALNAME:SVP Graubünden
BEGIN:VEVENT
CREATED:20240816T045033Z
UID:8235
DTEND:20240914T110000
DTSTART:20240914T100000
DTSTAMP:20260420T232542Z
LOCATION:Bibliothek Landquart
DESCRIPTION:Bibliothek Landquart, Samstag, 14. September 2024, 10.00 – 11.00h, K
SUMMARY:SVP Landquart in der Bibliothek
ORGANIZER:SVP Landquart
URL;VALUE=URI:https://www.svp-gr.ch/aktuell/termine/svp-landquart-in-der-bibliothek/
TRANSP:OPAQUE
END:VEVENT
END:VCALENDAR
