BEGIN:VCALENDAR
VERSION:2.0
PRODID:-//SVP Graubünden //NONSGML Events //EN
CALSCALE:GREGORIAN
X-WR-CALNAME:SVP Graubünden
BEGIN:VEVENT
CREATED:20240913T042544Z
UID:8334
DTEND:20250209T000000
DTSTART:20250209T000000
DTSTAMP:20260422T090357Z
LOCATION:
DESCRIPTION:
SUMMARY:Abstimmungssonntag
ORGANIZER:
URL;VALUE=URI:https://www.svp-gr.ch/aktuell/termine/abstimmungssonntag-5-2/
TRANSP:OPAQUE
END:VEVENT
END:VCALENDAR
