BEGIN:VCALENDAR
VERSION:2.0
PRODID:-//SVP Graubünden //NONSGML Events //EN
CALSCALE:GREGORIAN
X-WR-CALNAME:SVP Graubünden
BEGIN:VEVENT
CREATED:20250714T173448Z
UID:8690
DTEND:20250731T213000
DTSTART:20250731T180000
DTSTAMP:20260422T171617Z
LOCATION:halla Crestas\, Ruschein
DESCRIPTION:Gievgia, ils 31 da fenadur 2025, en ni avon la halla Crestas a Ruschei
SUMMARY:Fiasta naziunala a Ruschein cun Magdalena Martullo
ORGANIZER:Uniun da giuventetgna Ruschein/Ladir
URL;VALUE=URI:https://www.svp-gr.ch/aktuell/termine/fiasta-naziunala-a-ruschein-cun-magdalena-martullo/
TRANSP:OPAQUE
END:VEVENT
END:VCALENDAR
