BEGIN:VCALENDAR
VERSION:2.0
PRODID:-//SVP Graubünden //NONSGML Events //EN
CALSCALE:GREGORIAN
X-WR-CALNAME:SVP Graubünden
BEGIN:VEVENT
CREATED:20250714T173640Z
UID:8692
DTEND:20250727T160000
DTSTART:20250727T090000
DTSTAMP:20260423T071207Z
LOCATION:Poschiavo
DESCRIPTION:09.00 Ritrovo al parcheggio pubblico a Le Prese. 09.15 Inizio passeggi
SUMMARY:Tradizionale Festa Estiva UDC Valposchiavo
ORGANIZER:UDC Valposchiavo
URL;VALUE=URI:https://www.svp-gr.ch/aktuell/termine/sommerfest-in-poschiavo/
TRANSP:OPAQUE
END:VEVENT
END:VCALENDAR
