BEGIN:VCALENDAR
VERSION:2.0
PRODID:-//SVP Graubünden //NONSGML Events //EN
CALSCALE:GREGORIAN
X-WR-CALNAME:SVP Graubünden
BEGIN:VEVENT
CREATED:20250829T130029Z
UID:8844
DTEND:20250911T213000
DTSTART:20250911T190000
DTSTAMP:20260422T153833Z
LOCATION:Restaurant City West\, Chur
DESCRIPTION:Vertragspaket Schweiz – EU: Gewinn oder neue Abhängigkeiten? Am Don
SUMMARY:EU-Podium mit Magdalena Martullo und Jon Pult in Chur
ORGANIZER:
URL;VALUE=URI:https://www.svp-gr.ch/aktuell/termine/eu-podium-mit-magdalena-martullo-und-jon-pult-in-chur/
TRANSP:OPAQUE
END:VEVENT
END:VCALENDAR
