BEGIN:VCALENDAR
VERSION:2.0
PRODID:-//SVP Graubünden //NONSGML Events //EN
CALSCALE:GREGORIAN
X-WR-CALNAME:SVP Graubünden
BEGIN:VEVENT
CREATED:20260220T052323Z
UID:9216
DTEND:20260412T000000
DTSTART:20260412T000000
DTSTAMP:20260422T090351Z
LOCATION:Hote La Romantica\, Le Prese
DESCRIPTION:
SUMMARY:Intervento sul trattato con l‘UE
ORGANIZER:UDS Valposchiavo
URL;VALUE=URI:https://www.svp-gr.ch/aktuell/termine/assemblea-generale/
TRANSP:OPAQUE
END:VEVENT
END:VCALENDAR
